BEGIN:VCALENDAR
VERSION:2.0
CALSCALE:GREGORIAN
PRODID:-//Diputació de Barcelona//DibaCMS//EN
BEGIN:VEVENT
UID:4003
DTSTAMP:20260425T195623
DTSTART:20260516T100000
DTEND:20260517T200000
SUMMARY:Festa dels Resistents
LOCATION:
METHOD:PUBLISH
X-WR-CALNAME:castellbell@castellbellielvilar.cat
X-WR-TIMEZONE:Europe/Madrid
DESCRIPTION:Al Vilar durant tot el cap de setmana

URI:https://www.castellbellielvilar.cat/actualitat/agenda/4003-festa-dels-resistents.html
CLASS:PUBLIC
END:VEVENT
END:VCALENDAR
