BEGIN:VCALENDAR
VERSION:2.0
CALSCALE:GREGORIAN
PRODID:-//Diputació de Barcelona//DibaCMS//EN
BEGIN:VEVENT
UID:3955
DTSTAMP:20260425T184727
DTSTART:20260321T100000
DTEND:20260322T200000
SUMMARY:Ladies on road 
LOCATION:
METHOD:PUBLISH
X-WR-CALNAME:castellbell@castellbellielvilar.cat
X-WR-TIMEZONE:Europe/Madrid
DESCRIPTION:A la zona esportiva de Castellbell i el Vilar 

URI:https://www.castellbellielvilar.cat/actualitat/agenda/ladies-on-road-.html
CLASS:PUBLIC
END:VEVENT
END:VCALENDAR
