BEGIN:VCALENDAR
VERSION:2.0
CALSCALE:GREGORIAN
PRODID:-//Diputació de Barcelona//DibaCMS//EN
BEGIN:VEVENT
UID:3910
DTSTAMP:20260425T130959
DTSTART:20251228T110000
DTEND:20251228T140000
SUMMARY:Arribada del carter reial
LOCATION:
METHOD:PUBLISH
X-WR-CALNAME:castellbell@castellbellielvilar.cat
X-WR-TIMEZONE:Europe/Madrid
DESCRIPTION:Recorregut pel poble amb carrossa i parades per recollir les cartes

URI:https://www.castellbellielvilar.cat/actualitat/agenda/arribada-del-carter-reial.html
CLASS:PUBLIC
END:VEVENT
END:VCALENDAR
