BEGIN:VCALENDAR
VERSION:2.0
CALSCALE:GREGORIAN
PRODID:-//Diputació de Barcelona//DibaCMS//EN
BEGIN:VEVENT
UID:3905
DTSTAMP:20260425T145743
DTSTART:20251219T193000
DTEND:20251219T210000
SUMMARY:Arribada del Pare Nadal
LOCATION:
METHOD:PUBLISH
X-WR-CALNAME:castellbell@castellbellielvilar.cat
X-WR-TIMEZONE:Europe/Madrid
DESCRIPTION:A Cant Burés

URI:https://www.castellbellielvilar.cat/actualitat/agenda/arribada-del-pare-nadal.html
CLASS:PUBLIC
END:VEVENT
END:VCALENDAR
