BEGIN:VCALENDAR
VERSION:2.0
CALSCALE:GREGORIAN
PRODID:-//Diputació de Barcelona//DibaCMS//EN
BEGIN:VEVENT
UID:3904
DTSTAMP:20260425T170619
DTSTART:20251214T093000
DTEND:20251214T140000
SUMMARY:Actes amb motiu de La Marató de TV3
LOCATION:
METHOD:PUBLISH
X-WR-CALNAME:castellbell@castellbellielvilar.cat
X-WR-TIMEZONE:Europe/Madrid
DESCRIPTION:A l'Avinguda Catalunya (tram església del Borràs)

URI:https://www.castellbellielvilar.cat/actualitat/agenda/3904-actes-amb-motiu-de-la-marato-de-tv3.html
CLASS:PUBLIC
END:VEVENT
END:VCALENDAR
