BEGIN:VCALENDAR
VERSION:2.0
CALSCALE:GREGORIAN
PRODID:-//Diputació de Barcelona//DibaCMS//EN
BEGIN:VEVENT
UID:3844
DTSTAMP:20260425T170636
DTSTART:20251023T090000
DTEND:20251023T120000
SUMMARY:Sessió formativa gratuïta per participar al Cicle de passejades de marxa nòrdica per a la gent gran
LOCATION:
METHOD:PUBLISH
X-WR-CALNAME:castellbell@castellbellielvilar.cat
X-WR-TIMEZONE:Europe/Madrid
DESCRIPTION:Al camp de futbol de Castellbell i el Vilar 

URI:https://www.castellbellielvilar.cat/actualitat/agenda/sessio-formativa-gratuita-per-participar-al-cicle-de-passejades-de-marxa-nordica-per-a-la-gent-gran.html
CLASS:PUBLIC
END:VEVENT
END:VCALENDAR
