BEGIN:VCALENDAR
VERSION:2.0
CALSCALE:GREGORIAN
PRODID:-//Diputació de Barcelona//DibaCMS//EN
BEGIN:VEVENT
UID:3841
DTSTAMP:20260425T133517
DTSTART:20251022T103000
DTEND:20251022T130000
SUMMARY:L'Oficina Mòbil d'Informació al Consumidor s'atura a Castellbell i el Vilar
LOCATION:
METHOD:PUBLISH
X-WR-CALNAME:castellbell@castellbellielvilar.cat
X-WR-TIMEZONE:Europe/Madrid
DESCRIPTION:A l'Avinguda Catalunya coincidint amb el mercat setmanal

URI:https://www.castellbellielvilar.cat/actualitat/agenda/loficina-mobil-dinformacio-al-consumidor-satura-a-castellbell-i-el-vilar.html
CLASS:PUBLIC
END:VEVENT
END:VCALENDAR
