BEGIN:VCALENDAR
VERSION:2.0
CALSCALE:GREGORIAN
PRODID:-//Diputació de Barcelona//DibaCMS//EN
BEGIN:VEVENT
UID:3816
DTSTAMP:20260425T135322
DTSTART:20250906T180000
DTEND:20250906T200000
SUMMARY:VI Festa Bastonera
LOCATION:
METHOD:PUBLISH
X-WR-CALNAME:castellbell@castellbellielvilar.cat
X-WR-TIMEZONE:Europe/Madrid
DESCRIPTION:Amb la participació de vuit colles a la plaça Doctor Escorsell

URI:https://www.castellbellielvilar.cat/actualitat/agenda/vi-festa-bastonera.html
CLASS:PUBLIC
END:VEVENT
END:VCALENDAR
