BEGIN:VCALENDAR
VERSION:2.0
CALSCALE:GREGORIAN
PRODID:-//Diputació de Barcelona//DibaCMS//EN
BEGIN:VEVENT
UID:3811
DTSTAMP:20260425T184944
DTSTART:20250818T000000
DTEND:20251031T000000
SUMMARY:Horari obertura poliesportiu municipal 
LOCATION:
METHOD:PUBLISH
X-WR-CALNAME:castellbell@castellbellielvilar.cat
X-WR-TIMEZONE:Europe/Madrid
DESCRIPTION:L'horari d'obertura del poliesportiu municipal de Castellbell i el Vilar és cada dia, de 10 a 19 h, excepte els dijous, que l'equipament està tancat.

URI:https://www.castellbellielvilar.cat/actualitat/agenda/horari-obertura-poliesportiu-municipal-.html
CLASS:PUBLIC
END:VEVENT
END:VCALENDAR
