BEGIN:VCALENDAR
VERSION:2.0
CALSCALE:GREGORIAN
PRODID:-//Diputació de Barcelona//DibaCMS//EN
BEGIN:VEVENT
UID:3786
DTSTAMP:20260425T171814
DTSTART:20250725T213000
DTEND:20250725T230000
SUMMARY:La Capella de Música Burés canta ABBA
LOCATION:
METHOD:PUBLISH
X-WR-CALNAME:castellbell@castellbellielvilar.cat
X-WR-TIMEZONE:Europe/Madrid
DESCRIPTION:Al Casino Burés

URI:https://www.castellbellielvilar.cat/actualitat/agenda/la-capella-de-musica-bures-canta-abba.html
CLASS:PUBLIC
END:VEVENT
END:VCALENDAR
