BEGIN:VCALENDAR
VERSION:2.0
CALSCALE:GREGORIAN
PRODID:-//Diputació de Barcelona//DibaCMS//EN
BEGIN:VEVENT
UID:3784
DTSTAMP:20260425T133617
DTSTART:20250710T203000
DTEND:20250710T235900
SUMMARY:Pla de Lluna al Camí Ignasià 2025
LOCATION:
METHOD:PUBLISH
X-WR-CALNAME:castellbell@castellbellielvilar.cat
X-WR-TIMEZONE:Europe/Madrid
DESCRIPTION:Adquiriu les vostres entrades anticipadament

URI:https://www.castellbellielvilar.cat/actualitat/agenda/pla-de-lluna-al-cami-ignasia-2025.html
CLASS:PUBLIC
END:VEVENT
END:VCALENDAR
