BEGIN:VCALENDAR
VERSION:2.0
CALSCALE:GREGORIAN
PRODID:-//Diputació de Barcelona//DibaCMS//EN
BEGIN:VEVENT
UID:3780
DTSTAMP:20260425T151924
DTSTART:20250817T100000
DTEND:20250817T190000
SUMMARY:Baixada d'andròmines
LOCATION:
METHOD:PUBLISH
X-WR-CALNAME:castellbell@castellbellielvilar.cat
X-WR-TIMEZONE:Europe/Madrid
DESCRIPTION:En el marc de la Festa Major

URI:https://www.castellbellielvilar.cat/actualitat/agenda/baixada-dandromines.html
CLASS:PUBLIC
END:VEVENT
END:VCALENDAR
