BEGIN:VCALENDAR
VERSION:2.0
CALSCALE:GREGORIAN
PRODID:-//Diputació de Barcelona//DibaCMS//EN
BEGIN:VEVENT
UID:3773
DTSTAMP:20260426T000610
DTSTART:20250701T193000
DTEND:20250731T213000
SUMMARY:Cursos intensius de rumba
LOCATION:
METHOD:PUBLISH
X-WR-CALNAME:castellbell@castellbellielvilar.cat
X-WR-TIMEZONE:Europe/Madrid
DESCRIPTION:A càrrec de La Diosa Flamenca durant tot el mes de juliol (dimarts i dimecres)

URI:https://www.castellbellielvilar.cat/actualitat/agenda/cursos-intensius-de-rumba.html
CLASS:PUBLIC
END:VEVENT
END:VCALENDAR
