BEGIN:VCALENDAR
VERSION:2.0
CALSCALE:GREGORIAN
PRODID:-//Diputació de Barcelona//DibaCMS//EN
BEGIN:VEVENT
UID:3763
DTSTAMP:20260425T152026
DTSTART:20250623T213000
DTEND:20250624T033000
SUMMARY:Revetlla de Sant Joan
LOCATION:
METHOD:PUBLISH
X-WR-CALNAME:castellbell@castellbellielvilar.cat
X-WR-TIMEZONE:Europe/Madrid
DESCRIPTION:Sopar a la fresca, espectacle 'Ombres i Foc', encesa de la foguera i ball amb DJ Mirabet

URI:https://www.castellbellielvilar.cat/actualitat/agenda/3763-revetlla-de-sant-joan.html
CLASS:PUBLIC
END:VEVENT
END:VCALENDAR
