BEGIN:VCALENDAR
VERSION:2.0
CALSCALE:GREGORIAN
PRODID:-//Diputació de Barcelona//DibaCMS//EN
BEGIN:VEVENT
UID:3762
DTSTAMP:20260426T014846
DTSTART:20250616T200000
DTEND:20250904T101500
SUMMARY:Esport per a tothom estiu 2025
LOCATION:
METHOD:PUBLISH
X-WR-CALNAME:castellbell@castellbellielvilar.cat
X-WR-TIMEZONE:Europe/Madrid
DESCRIPTION:Activitats de pilates, gimnàstia dolça i ioga al Gimnàs Montserrat

URI:https://www.castellbellielvilar.cat/actualitat/agenda/esport-per-a-tothom-estiu-2025.html
CLASS:PUBLIC
END:VEVENT
END:VCALENDAR
