BEGIN:VCALENDAR
VERSION:2.0
CALSCALE:GREGORIAN
PRODID:-//Diputació de Barcelona//DibaCMS//EN
BEGIN:VEVENT
UID:3761
DTSTAMP:20260426T033953
DTSTART:20250628T170000
DTEND:20250628T210000
SUMMARY:Batalla de Gladiadores
LOCATION:
METHOD:PUBLISH
X-WR-CALNAME:castellbell@castellbellielvilar.cat
X-WR-TIMEZONE:Europe/Madrid
DESCRIPTION:
URI:https://www.castellbellielvilar.cat/actualitat/agenda/batalla-de-gladiadores.html
CLASS:PUBLIC
END:VEVENT
END:VCALENDAR
