BEGIN:VCALENDAR
VERSION:2.0
CALSCALE:GREGORIAN
PRODID:-//Diputació de Barcelona//DibaCMS//EN
BEGIN:VEVENT
UID:3760
DTSTAMP:20260426T014648
DTSTART:20250616T100000
DTEND:20250914T190000
SUMMARY:Temporada d'estiu a les piscines municipals
LOCATION:
METHOD:PUBLISH
X-WR-CALNAME:castellbell@castellbellielvilar.cat
X-WR-TIMEZONE:Europe/Madrid
DESCRIPTION:Del 16 de juny al 14 de setembre 

URI:https://www.castellbellielvilar.cat/actualitat/agenda/temporada-destiu-a-les-piscines-municipals.html
CLASS:PUBLIC
END:VEVENT
END:VCALENDAR
