BEGIN:VCALENDAR
VERSION:2.0
CALSCALE:GREGORIAN
PRODID:-//Diputació de Barcelona//DibaCMS//EN
BEGIN:VEVENT
UID:3752
DTSTAMP:20260426T002354
DTSTART:20250601T080000
DTEND:20250601T180000
SUMMARY:6è aniversari Penya Blanc-i-blava de Castellbell i el Vilar  
LOCATION:
METHOD:PUBLISH
X-WR-CALNAME:castellbell@castellbellielvilar.cat
X-WR-TIMEZONE:Europe/Madrid
DESCRIPTION:
URI:https://www.castellbellielvilar.cat/actualitat/agenda/6e-aniversari-penya-blanc-i-blava-de-castellbell-i-el-vilar-.html
CLASS:PUBLIC
END:VEVENT
END:VCALENDAR
