BEGIN:VCALENDAR
VERSION:2.0
CALSCALE:GREGORIAN
PRODID:-//Diputació de Barcelona//DibaCMS//EN
BEGIN:VEVENT
UID:3748
DTSTAMP:20260426T000502
DTSTART:20250616T103000
DTEND:20250829T111500
SUMMARY:Sessions d'aquagym a la piscina municipal
LOCATION:
METHOD:PUBLISH
X-WR-CALNAME:castellbell@castellbellielvilar.cat
X-WR-TIMEZONE:Europe/Madrid
DESCRIPTION:A partir de la segona quinzena de juny i durant els mesos de juliol i agost

URI:https://www.castellbellielvilar.cat/actualitat/agenda/sessions-daquagym-a-la-piscina-municipal.html
CLASS:PUBLIC
END:VEVENT
END:VCALENDAR
