BEGIN:VCALENDAR
VERSION:2.0
CALSCALE:GREGORIAN
PRODID:-//Diputació de Barcelona//DibaCMS//EN
BEGIN:VEVENT
UID:3738
DTSTAMP:20260425T190739
DTSTART:20250521T090000
DTEND:20250522T190000
SUMMARY:El bus del Museu Nacional de la Ciència i la Tècnica de Catalunya s'atura a Castellbell i el Vilar
LOCATION:
METHOD:PUBLISH
X-WR-CALNAME:castellbell@castellbellielvilar.cat
X-WR-TIMEZONE:Europe/Madrid
DESCRIPTION:A l'Avinguda Catalunya amb tallers i una exposició interactiva

URI:https://www.castellbellielvilar.cat/actualitat/agenda/el-bus-del-museu-nacional-de-la-ciencia-i-la-tecnica-de-catalunya-satura-a-castellbell-i-el-vilar.html
CLASS:PUBLIC
END:VEVENT
END:VCALENDAR
