BEGIN:VCALENDAR
VERSION:2.0
CALSCALE:GREGORIAN
PRODID:-//Diputació de Barcelona//DibaCMS//EN
BEGIN:VEVENT
UID:3737
DTSTAMP:20260425T133424
DTSTART:20250705T120000
DTEND:20250706T120000
SUMMARY:24 hores de futbol sala
LOCATION:
METHOD:PUBLISH
X-WR-CALNAME:castellbell@castellbellielvilar.cat
X-WR-TIMEZONE:Europe/Madrid
DESCRIPTION:Al Poliesportiu Municipal

URI:https://www.castellbellielvilar.cat/actualitat/agenda/3737-24-hores-de-futbol-sala.html
CLASS:PUBLIC
END:VEVENT
END:VCALENDAR
