BEGIN:VCALENDAR
VERSION:2.0
CALSCALE:GREGORIAN
PRODID:-//Diputació de Barcelona//DibaCMS//EN
BEGIN:VEVENT
UID:3716
DTSTAMP:20260425T203212
DTSTART:20250517T100000
DTEND:20250518T200000
SUMMARY:Festa dels Resistents 2025
LOCATION:
METHOD:PUBLISH
X-WR-CALNAME:castellbell@castellbellielvilar.cat
X-WR-TIMEZONE:Europe/Madrid
DESCRIPTION:Consulteu el detall del programa al document compartit

URI:https://www.castellbellielvilar.cat/actualitat/agenda/festa-dels-resistents-2025.html
CLASS:PUBLIC
END:VEVENT
END:VCALENDAR
