BEGIN:VCALENDAR
VERSION:2.0
CALSCALE:GREGORIAN
PRODID:-//Diputació de Barcelona//DibaCMS//EN
BEGIN:VEVENT
UID:3708
DTSTAMP:20260425T203710
DTSTART:20250419T170000
DTEND:20250420T141500
SUMMARY:Cantades i balls de bastons de Pasqua
LOCATION:
METHOD:PUBLISH
X-WR-CALNAME:castellbell@castellbellielvilar.cat
X-WR-TIMEZONE:Europe/Madrid
DESCRIPTION:Dissabte a la tarda als carrers de Sant Cristòfol i diumenge al Vilar, el Burés, el Borràs i la Bauma

URI:https://www.castellbellielvilar.cat/actualitat/agenda/3708-cantades-i-balls-de-bastons-de-pasqua.html
CLASS:PUBLIC
END:VEVENT
END:VCALENDAR
