BEGIN:VCALENDAR
VERSION:2.0
CALSCALE:GREGORIAN
PRODID:-//Diputació de Barcelona//DibaCMS//EN
BEGIN:VEVENT
UID:3707
DTSTAMP:20260426T014756
DTSTART:20250601T080000
DTEND:20250601T130000
SUMMARY:La prova VII Open Maxxis BTT Castellgalí passa per Castellbell i el Vilar
LOCATION:
METHOD:PUBLISH
X-WR-CALNAME:castellbell@castellbellielvilar.cat
X-WR-TIMEZONE:Europe/Madrid
DESCRIPTION:Organitzada pel Club Esportiu BTT Open Natura 

URI:https://www.castellbellielvilar.cat/actualitat/agenda/la-prova-vii-open-maxxis-btt-castellgali-passa-per-castellbell-i-el-vilar.html
CLASS:PUBLIC
END:VEVENT
END:VCALENDAR
