BEGIN:VCALENDAR
VERSION:2.0
CALSCALE:GREGORIAN
PRODID:-//Diputació de Barcelona//DibaCMS//EN
BEGIN:VEVENT
UID:3691
DTSTAMP:20260426T000748
DTSTART:20250406T100000
DTEND:20250406T133000
SUMMARY:Fira del Montserratí i Marxa del Pelegrí
LOCATION:
METHOD:PUBLISH
X-WR-CALNAME:castellbell@castellbellielvilar.cat
X-WR-TIMEZONE:Europe/Madrid
DESCRIPTION:A Sant Cristòfol

URI:https://www.castellbellielvilar.cat/actualitat/agenda/fira-del-montserrati-i-marxa-del-pelegri.html
CLASS:PUBLIC
END:VEVENT
END:VCALENDAR
