BEGIN:VCALENDAR
VERSION:2.0
CALSCALE:GREGORIAN
PRODID:-//Diputació de Barcelona//DibaCMS//EN
BEGIN:VEVENT
UID:3681
DTSTAMP:20260426T000645
DTSTART:20250315T210000
DTEND:20250315T235500
SUMMARY:Comedy & karaoke night
LOCATION:
METHOD:PUBLISH
X-WR-CALNAME:castellbell@castellbellielvilar.cat
X-WR-TIMEZONE:Europe/Madrid
DESCRIPTION:Al Casino Borràs

URI:https://www.castellbellielvilar.cat/actualitat/agenda/comedy-and-karaoke-night.html
CLASS:PUBLIC
END:VEVENT
END:VCALENDAR
