BEGIN:VCALENDAR
VERSION:2.0
CALSCALE:GREGORIAN
PRODID:-//Diputació de Barcelona//DibaCMS//EN
BEGIN:VEVENT
UID:3673
DTSTAMP:20260425T203817
DTSTART:20250308T173000
DTEND:20250308T200000
SUMMARY:Commemoració de la jornada reivindicativa del 8 de març
LOCATION:
METHOD:PUBLISH
X-WR-CALNAME:castellbell@castellbellielvilar.cat
X-WR-TIMEZONE:Europe/Madrid
DESCRIPTION:Representació de l'obra de teatre 'Micromacho' al Casino Borràs i lectura del manifest davant de l'Ajuntament de Castellbell i el Vilar 

URI:https://www.castellbellielvilar.cat/actualitat/agenda/commemoracio-de-la-jornada-reivindicativa-del-8-de-marc.html
CLASS:PUBLIC
END:VEVENT
END:VCALENDAR
