BEGIN:VCALENDAR
VERSION:2.0
CALSCALE:GREGORIAN
PRODID:-//Diputació de Barcelona//DibaCMS//EN
BEGIN:VEVENT
UID:3617
DTSTAMP:20260426T014740
DTSTART:20241221T103000
DTEND:20241221T133000
SUMMARY:Matí nadalenc per a infants 
LOCATION:
METHOD:PUBLISH
X-WR-CALNAME:castellbell@castellbellielvilar.cat
X-WR-TIMEZONE:Europe/Madrid
DESCRIPTION:Al pati de l'Escola Jaume Balmes

URI:https://www.castellbellielvilar.cat/actualitat/agenda/mati-nadalenc-per-a-infants-.html
CLASS:PUBLIC
END:VEVENT
END:VCALENDAR
