BEGIN:VCALENDAR
VERSION:2.0
CALSCALE:GREGORIAN
PRODID:-//Diputació de Barcelona//DibaCMS//EN
BEGIN:VEVENT
UID:3614
DTSTAMP:20260426T034111
DTSTART:20241218T093000
DTEND:20241218T140000
SUMMARY:I Trobada Intercultural
LOCATION:
METHOD:PUBLISH
X-WR-CALNAME:castellbell@castellbellielvilar.cat
X-WR-TIMEZONE:Europe/Madrid
DESCRIPTION:Caminada per conèixer Castellbell i el Vilar

URI:https://www.castellbellielvilar.cat/actualitat/agenda/i-trobada-intercultural.html
CLASS:PUBLIC
END:VEVENT
END:VCALENDAR
