BEGIN:VCALENDAR
VERSION:2.0
CALSCALE:GREGORIAN
PRODID:-//Diputació de Barcelona//DibaCMS//EN
BEGIN:VEVENT
UID:3593
DTSTAMP:20260426T053020
DTSTART:20241031T170000
DTEND:20241031T190000
SUMMARY:Castanyada popular
LOCATION:
METHOD:PUBLISH
X-WR-CALNAME:castellbell@castellbellielvilar.cat
X-WR-TIMEZONE:Europe/Madrid
DESCRIPTION:Al pati de l'Escola Jaume Balmes a partir de les 5 de la tarda 

URI:https://www.castellbellielvilar.cat/actualitat/agenda/castanyada-popular.html
CLASS:PUBLIC
END:VEVENT
END:VCALENDAR
