BEGIN:VCALENDAR
VERSION:2.0
CALSCALE:GREGORIAN
PRODID:-//Diputació de Barcelona//DibaCMS//EN
BEGIN:VEVENT
UID:3587
DTSTAMP:20260426T034234
DTSTART:20241103T103000
DTEND:20241103T170000
SUMMARY:Exhibició eqüestre
LOCATION:
METHOD:PUBLISH
X-WR-CALNAME:castellbell@castellbellielvilar.cat
X-WR-TIMEZONE:Europe/Madrid
DESCRIPTION:Entrada gratuïta a l'hípica Natural Hipic

URI:https://www.castellbellielvilar.cat/actualitat/agenda/exhibicio-equestre.html
CLASS:PUBLIC
END:VEVENT
END:VCALENDAR
