BEGIN:VCALENDAR
VERSION:2.0
CALSCALE:GREGORIAN
PRODID:-//Diputació de Barcelona//DibaCMS//EN
BEGIN:VEVENT
UID:3561
DTSTAMP:20260426T034221
DTSTART:20240918T103000
DTEND:20240918T130000
SUMMARY:La Unitat Mòbil d'Informació al Consumidor de la Diputació de Barcelona s'atura a Castellbell i el Vilar
LOCATION:
METHOD:PUBLISH
X-WR-CALNAME:castellbell@castellbellielvilar.cat
X-WR-TIMEZONE:Europe/Madrid
DESCRIPTION:Coincidint amb el mercat setmanal

URI:https://www.castellbellielvilar.cat/actualitat/agenda/la-unitat-mobil-dinformacio-al-consumidor-de-la-diputacio-de-barcelona-satura-a-castellbell-i-el-vilar.html
CLASS:PUBLIC
END:VEVENT
END:VCALENDAR
