BEGIN:VCALENDAR
VERSION:2.0
CALSCALE:GREGORIAN
PRODID:-//Diputació de Barcelona//DibaCMS//EN
BEGIN:VEVENT
UID:3545
DTSTAMP:20260426T052652
DTSTART:20240729T193000
DTEND:20240729T204500
SUMMARY:Republicanisme, memòria i justícia
LOCATION:
METHOD:PUBLISH
X-WR-CALNAME:castellbell@castellbellielvilar.cat
X-WR-TIMEZONE:Europe/Madrid
DESCRIPTION:Commemoració del 85è aniversari de l'afusellament dels tres alcaldes republicans de Castellbell i el Vilar

URI:https://www.castellbellielvilar.cat/actualitat/agenda/republicanisme-memoria-i-justicia.html
CLASS:PUBLIC
END:VEVENT
END:VCALENDAR
