BEGIN:VCALENDAR
VERSION:2.0
CALSCALE:GREGORIAN
PRODID:-//Diputació de Barcelona//DibaCMS//EN
BEGIN:VEVENT
UID:3529
DTSTAMP:20260426T034202
DTSTART:20241027T090000
DTEND:20241027T130000
SUMMARY:La prova 'BTT Open Maxxis Olesa de Montserrat' passa per Castellbell i el Vilar
LOCATION:
METHOD:PUBLISH
X-WR-CALNAME:castellbell@castellbellielvilar.cat
X-WR-TIMEZONE:Europe/Madrid
DESCRIPTION:Organitzada per la Federació Catalana de Ciclisme

URI:https://www.castellbellielvilar.cat/actualitat/agenda/la-prova-btt-open-maxxis-olesa-de-montserrat-passa-per-castellbell-i-el-vilar.html
CLASS:PUBLIC
END:VEVENT
END:VCALENDAR
