BEGIN:VCALENDAR
VERSION:2.0
CALSCALE:GREGORIAN
PRODID:-//Diputació de Barcelona//DibaCMS//EN
BEGIN:VEVENT
UID:3524
DTSTAMP:20260426T053521
DTSTART:20240701T193000
DTEND:20240726T210000
SUMMARY:Curs intensiu per aprendre a ballar sevillanes
LOCATION:
METHOD:PUBLISH
X-WR-CALNAME:castellbell@castellbellielvilar.cat
X-WR-TIMEZONE:Europe/Madrid
DESCRIPTION:A càrrec de La Diosa de Castellbell i el Vilar

URI:https://www.castellbellielvilar.cat/actualitat/agenda/curs-intensiu-per-aprendre-a-ballar-sevillanes.html
CLASS:PUBLIC
END:VEVENT
END:VCALENDAR
