BEGIN:VCALENDAR
VERSION:2.0
CALSCALE:GREGORIAN
PRODID:-//Diputació de Barcelona//DibaCMS//EN
BEGIN:VEVENT
UID:3496
DTSTAMP:20260426T034019
DTSTART:20241006T090000
DTEND:20241006T130000
SUMMARY:Travessa BTT Sant Joan Despí - Montserrat
LOCATION:
METHOD:PUBLISH
X-WR-CALNAME:castellbell@castellbellielvilar.cat
X-WR-TIMEZONE:Europe/Madrid
DESCRIPTION:La prova passarà per Castellbell i el Vilar

URI:https://www.castellbellielvilar.cat/actualitat/agenda/travessa-btt-sant-joan-despi-montserrat.html
CLASS:PUBLIC
END:VEVENT
END:VCALENDAR
