BEGIN:VCALENDAR
VERSION:2.0
CALSCALE:GREGORIAN
PRODID:-//Diputació de Barcelona//DibaCMS//EN
BEGIN:VEVENT
UID:3286
DTSTAMP:20260425T222442
DTSTART:20241231T103000
DTEND:20241231T113000
SUMMARY:Ioga 'Esport per a tothom'
LOCATION:
METHOD:PUBLISH
X-WR-CALNAME:castellbell@castellbellielvilar.cat
X-WR-TIMEZONE:Europe/Madrid
DESCRIPTION:En el marc del cicle 'Esport per a tothom' sessió setmanal cada dimecres al matí al Gimnàs Montserrat

URI:https://www.castellbellielvilar.cat/actualitat/agenda/ioga-esport-per-a-tothom.html
CLASS:PUBLIC
END:VEVENT
END:VCALENDAR
