BEGIN:VCALENDAR
VERSION:2.0
CALSCALE:GREGORIAN
PRODID:-//Diputació de Barcelona//DibaCMS//EN
BEGIN:VEVENT
UID:2054
DTSTAMP:20260425T220002
DTSTART:20200301T140000
DTEND:20200301T160000
SUMMARY:Calçotada Popular
LOCATION:
METHOD:PUBLISH
X-WR-CALNAME:castellbell@castellbellielvilar.cat
X-WR-TIMEZONE:Europe/Madrid
DESCRIPTION:Calçotada a Preus Populars a la Plaça Lluís Companys de Castellbell i El Vilar. A benefici de l'equip de cadets.

URI:https://www.castellbellielvilar.cat/actualitat/agenda/calcotada-popular.html
CLASS:PUBLIC
END:VEVENT
END:VCALENDAR
