BEGIN:VCALENDAR
VERSION:2.0
CALSCALE:GREGORIAN
PRODID:-//Diputació de Barcelona//DibaCMS//EN
BEGIN:VEVENT
UID:2049
DTSTAMP:20260426T015625
DTSTART:20200308T000000
DTEND:20200308T000000
SUMMARY:Duatló escolar
LOCATION:
METHOD:PUBLISH
X-WR-CALNAME:castellbell@castellbellielvilar.cat
X-WR-TIMEZONE:Europe/Madrid
DESCRIPTION:En el marc dels Jocs Esportius Escolars de Catalunya

URI:https://www.castellbellielvilar.cat/actualitat/agenda/duatlo-escolar.html
CLASS:PUBLIC
END:VEVENT
END:VCALENDAR
