BEGIN:VCALENDAR
VERSION:2.0
CALSCALE:GREGORIAN
PRODID:-//Diputació de Barcelona//DibaCMS//EN
BEGIN:VEVENT
UID:2048
DTSTAMP:20260425T221316
DTSTART:20200225T173000
DTEND:20200225T183000
SUMMARY:Carnestoltes a la biblioteca
LOCATION:
METHOD:PUBLISH
X-WR-CALNAME:castellbell@castellbellielvilar.cat
X-WR-TIMEZONE:Europe/Madrid
DESCRIPTION:La Biblioteca de Castellbell i El Vilar també participa al Carnestoltes. Es farà un taller de viseres divertides adreçat a tota la família.

URI:https://www.castellbellielvilar.cat/actualitat/agenda/carnestoltes-a-la-biblioteca.html
CLASS:PUBLIC
END:VEVENT
END:VCALENDAR
