BEGIN:VCALENDAR
VERSION:2.0
CALSCALE:GREGORIAN
PRODID:-//Diputació de Barcelona//DibaCMS//EN
BEGIN:VEVENT
UID:2018
DTSTAMP:20260426T014506
DTSTART:20200213T180000
DTEND:20200213T193000
SUMMARY:Xerrada sobre seguretat als domicilis
LOCATION:
METHOD:PUBLISH
X-WR-CALNAME:castellbell@castellbellielvilar.cat
X-WR-TIMEZONE:Europe/Madrid
DESCRIPTION:Al Centre Cívic de La Bauma

URI:https://www.castellbellielvilar.cat/actualitat/agenda/xerrada-sobre-seguretat-als-domicilis.html
CLASS:PUBLIC
END:VEVENT
END:VCALENDAR
