BEGIN:VCALENDAR
VERSION:2.0
CALSCALE:GREGORIAN
PRODID:-//Diputació de Barcelona//DibaCMS//EN
BEGIN:VEVENT
UID:2013
DTSTAMP:20260425T184827
DTSTART:20200125T160000
DTEND:20200125T200000
SUMMARY:Taller 'Tea Party'
LOCATION:
METHOD:PUBLISH
X-WR-CALNAME:castellbell@castellbellielvilar.cat
X-WR-TIMEZONE:Europe/Madrid
DESCRIPTION:Decoració de dos estalvis de taula i dos posa-gots amb les seves tapes. Es farà servir paper d'arròs, pintures metàl·liques, i un vernís especial resistent a les altes temperatures

URI:https://www.castellbellielvilar.cat/actualitat/agenda/taller-tea-party.html
CLASS:PUBLIC
END:VEVENT
END:VCALENDAR
