BEGIN:VCALENDAR
VERSION:2.0
CALSCALE:GREGORIAN
PRODID:-//Diputació de Barcelona//DibaCMS//EN
BEGIN:VEVENT
UID:2009
DTSTAMP:20260425T164222
DTSTART:20200113T000000
DTEND:20200113T000000
SUMMARY:Copa Catalunya de Futbol Sala
LOCATION:
METHOD:PUBLISH
X-WR-CALNAME:castellbell@castellbellielvilar.cat
X-WR-TIMEZONE:Europe/Madrid
DESCRIPTION:
URI:https://www.castellbellielvilar.cat/actualitat/agenda/copa-catalunya-de-futbol-sala.html
CLASS:PUBLIC
END:VEVENT
END:VCALENDAR
