BEGIN:VCALENDAR
VERSION:2.0
CALSCALE:GREGORIAN
PRODID:-//Diputació de Barcelona//DibaCMS//EN
BEGIN:VEVENT
UID:1986
DTSTAMP:20260425T182214
DTSTART:20200102T103000
DTEND:20200102T133000
SUMMARY:Zitzi Aventura't
LOCATION:
METHOD:PUBLISH
X-WR-CALNAME:castellbell@castellbellielvilar.cat
X-WR-TIMEZONE:Europe/Madrid
DESCRIPTION:Activitats pels/les més aventurers/res i atrevits/des al Pavelló Poliesportiu Municipal

URI:https://www.castellbellielvilar.cat/actualitat/agenda/zitzi-aventurat.html
CLASS:PUBLIC
END:VEVENT
END:VCALENDAR
