BEGIN:VCALENDAR
VERSION:2.0
CALSCALE:GREGORIAN
PRODID:-//Diputació de Barcelona//DibaCMS//EN
BEGIN:VEVENT
UID:1983
DTSTAMP:20260425T234348
DTSTART:20191228T190000
DTEND:20191228T210000
SUMMARY:Els Pastorets
LOCATION:
METHOD:PUBLISH
X-WR-CALNAME:castellbell@castellbellielvilar.cat
X-WR-TIMEZONE:Europe/Madrid
DESCRIPTION:És un dels actes nadalencs que es fa amb el sistema de taquilla solidària per recollir productes pel Banc dels Aliments.

URI:https://www.castellbellielvilar.cat/actualitat/agenda/els-pastorets.html
CLASS:PUBLIC
END:VEVENT
END:VCALENDAR
