BEGIN:VCALENDAR
VERSION:2.0
CALSCALE:GREGORIAN
PRODID:-//Diputació de Barcelona//DibaCMS//EN
BEGIN:VEVENT
UID:1982
DTSTAMP:20260426T034151
DTSTART:20191227T173000
DTEND:20191227T193000
SUMMARY:Cinema de Nadal
LOCATION:
METHOD:PUBLISH
X-WR-CALNAME:castellbell@castellbellielvilar.cat
X-WR-TIMEZONE:Europe/Madrid
DESCRIPTION:Projecció de la pel·lícula Aladínn de 2019 a Cant Burés.

Acte nadalenc que es fa amb el sistema de taquilla solidària per recollir productes pel Banc dels Aliments.

URI:https://www.castellbellielvilar.cat/actualitat/agenda/cinema-de-nadal.html
CLASS:PUBLIC
END:VEVENT
END:VCALENDAR
