BEGIN:VCALENDAR
VERSION:2.0
CALSCALE:GREGORIAN
PRODID:-//Diputació de Barcelona//DibaCMS//EN
BEGIN:VEVENT
UID:1979
DTSTAMP:20260425T221224
DTSTART:20191222T180000
DTEND:20191222T200000
SUMMARY:Concert de Nadal
LOCATION:
METHOD:PUBLISH
X-WR-CALNAME:castellbell@castellbellielvilar.cat
X-WR-TIMEZONE:Europe/Madrid
DESCRIPTION:"Una Marató cada Nadal" a càrrec de la Capella de Música Burés a Cant Burés

URI:https://www.castellbellielvilar.cat/actualitat/agenda/concert-de-nadal.html
CLASS:PUBLIC
END:VEVENT
END:VCALENDAR
