BEGIN:VCALENDAR
VERSION:2.0
CALSCALE:GREGORIAN
PRODID:-//Diputació de Barcelona//DibaCMS//EN
BEGIN:VEVENT
UID:1977
DTSTAMP:20260426T000425
DTSTART:20191221T170000
DTEND:20191221T190000
SUMMARY:Tió Bastoner
LOCATION:
METHOD:PUBLISH
X-WR-CALNAME:castellbell@castellbellielvilar.cat
X-WR-TIMEZONE:Europe/Madrid
DESCRIPTION:Tió Bastoner a la Plaça Lluís Companys a càrrec de La Xarranca

URI:https://www.castellbellielvilar.cat/actualitat/agenda/1977-tio-bastoner.html
CLASS:PUBLIC
END:VEVENT
END:VCALENDAR
