BEGIN:VCALENDAR
VERSION:2.0
CALSCALE:GREGORIAN
PRODID:-//Diputació de Barcelona//DibaCMS//EN
BEGIN:VEVENT
UID:1971
DTSTAMP:20260426T014714
DTSTART:20191208T000000
DTEND:20191208T000000
SUMMARY:Pessebre Monumental - Diferents dies
LOCATION:
METHOD:PUBLISH
X-WR-CALNAME:castellbell@castellbellielvilar.cat
X-WR-TIMEZONE:Europe/Madrid
DESCRIPTION:Presentació del nou Pessebre Monumental a Cant Burés

Horaris

Diumenge 8 de desembre - A les 17 hores

Dilluns i Dimarts 16 i 17 de desembre - De les 10 a les12 hores

Dissabte 21, Dimecres 26 i Diumenge 29 de desembre - De les 11 a les 13 hores

 

URI:https://www.castellbellielvilar.cat/actualitat/agenda/pessebre-monumental-diferents-dies.html
CLASS:PUBLIC
END:VEVENT
END:VCALENDAR
