BEGIN:VCALENDAR
VERSION:2.0
CALSCALE:GREGORIAN
PRODID:-//Diputació de Barcelona//DibaCMS//EN
BEGIN:VEVENT
UID:1970
DTSTAMP:20260425T200242
DTSTART:20191207T160000
DTEND:20191207T190000
SUMMARY:Nadal Creatiu
LOCATION:
METHOD:PUBLISH
X-WR-CALNAME:castellbell@castellbellielvilar.cat
X-WR-TIMEZONE:Europe/Madrid
DESCRIPTION:Decorem l'arbre de Naadal al Casal del Pensionista.

URI:https://www.castellbellielvilar.cat/actualitat/agenda/nadal-creatiu.html
CLASS:PUBLIC
END:VEVENT
END:VCALENDAR
